Felt | Verdi |
AlreadyApplied | True |
Aperture | 13.0 |
ApertureValue | 13.0 |
ApproximateFocusDistance | 4294967295 |
Artist | Mikkel Nordbaek |
AutoLateralCA | 1 |
AutoWhiteVersion | 134348800 |
BitsPerSample | 8 |
Blacks2012 | +16 |
BlueHue | 0 |
BlueSaturation | 0 |
By-line | Mikkel Nordbaek |
CameraProfile | Adobe Standard |
CircGradBasedCorrActive | true |
CircGradBasedCorrAmount | 1.000000 |
CircGradBasedCorrBrightness | 0.000000 |
CircGradBasedCorrClarity2012 | 0.000000 |
CircGradBasedCorrContrast2012 | 0.000000 |
CircGradBasedCorrDefringe | 0.000000 |
CircGradBasedCorrExposure2012 | -0.144750 |
CircGradBasedCorrHighlights2012 | 0.000000 |
CircGradBasedCorrHue | 0.000000 |
CircGradBasedCorrLocalDehaze | 0.000000 |
CircGradBasedCorrLuminanceNoise | 0.000000 |
CircGradBasedCorrMaskAngle (1) | 33.374100 |
CircGradBasedCorrMaskAngle (11) | 0.000000 |
CircGradBasedCorrMaskAngle (23) | 4.763740 |
CircGradBasedCorrMaskAngle (5) | -3.634690 |
CircGradBasedCorrMaskAngle (6) | 34.448100 |
CircGradBasedCorrMaskAngle (8) | 19.649100 |
CircGradBasedCorrMaskAngle | 4.073520 |
CircGradBasedCorrMaskBottom (1) | 0.210548 |
CircGradBasedCorrMaskBottom (2) | 0.441520 |
CircGradBasedCorrMaskBottom (3) | 0.478705 |
CircGradBasedCorrMaskBottom (4) | 0.439349 |
CircGradBasedCorrMaskBottom (5) | 0.453848 |
CircGradBasedCorrMaskBottom (6) | 0.482201 |
CircGradBasedCorrMaskBottom (8) | 0.505751 |
CircGradBasedCorrMaskBottom (9) | 0.533009 |
CircGradBasedCorrMaskBottom | 0.438881 |
CircGradBasedCorrMaskFeather | +100 |
CircGradBasedCorrMaskFlipped | true |
CircGradBasedCorrMaskLeft (1) | 0.753173 |
CircGradBasedCorrMaskLeft (10) | 0.134055 |
CircGradBasedCorrMaskLeft (11) | 0.050867 |
CircGradBasedCorrMaskLeft (12) | -0.019001 |
CircGradBasedCorrMaskLeft (14) | 0.252775 |
CircGradBasedCorrMaskLeft (15) | -0.047523 |
CircGradBasedCorrMaskLeft (16) | 0.041422 |
CircGradBasedCorrMaskLeft (17) | 0.221614 |
CircGradBasedCorrMaskLeft (18) | 0.141938 |
CircGradBasedCorrMaskLeft (19) | 0.187963 |
CircGradBasedCorrMaskLeft (2) | 0.408180 |
CircGradBasedCorrMaskLeft (20) | 0.272536 |
CircGradBasedCorrMaskLeft (21) | 1.143820 |
CircGradBasedCorrMaskLeft (22) | 0.009831 |
CircGradBasedCorrMaskLeft (23) | 0.135019 |
CircGradBasedCorrMaskLeft (3) | 0.412834 |
CircGradBasedCorrMaskLeft (4) | 0.622711 |
CircGradBasedCorrMaskLeft (5) | 0.674090 |
CircGradBasedCorrMaskLeft (7) | 0.792000 |
CircGradBasedCorrMaskLeft (8) | 0.892814 |
CircGradBasedCorrMaskLeft (9) | 0.247065 |
CircGradBasedCorrMaskLeft | 0.006951 |
CircGradBasedCorrMaskMidpoint | +50 |
CircGradBasedCorrMaskRight (1) | 0.781182 |
CircGradBasedCorrMaskRight (10) | 0.284197 |
CircGradBasedCorrMaskRight (11) | 0.147817 |
CircGradBasedCorrMaskRight (12) | 0.175248 |
CircGradBasedCorrMaskRight (14) | 0.284511 |
CircGradBasedCorrMaskRight (15) | 0.151511 |
CircGradBasedCorrMaskRight (16) | 0.143964 |
CircGradBasedCorrMaskRight (17) | 0.334416 |
CircGradBasedCorrMaskRight (18) | 0.202690 |
CircGradBasedCorrMaskRight (19) | 0.251895 |
CircGradBasedCorrMaskRight (2) | 0.540894 |
CircGradBasedCorrMaskRight (20) | 0.337400 |
CircGradBasedCorrMaskRight (21) | 1.206790 |
CircGradBasedCorrMaskRight (22) | 0.046979 |
CircGradBasedCorrMaskRight (23) | 0.168132 |
CircGradBasedCorrMaskRight (3) | 0.542306 |
CircGradBasedCorrMaskRight (4) | 0.684000 |
CircGradBasedCorrMaskRight (5) | 0.732543 |
CircGradBasedCorrMaskRight (6) | 0.786701 |
CircGradBasedCorrMaskRight (8) | 0.899003 |
CircGradBasedCorrMaskRight (9) | 0.399359 |
CircGradBasedCorrMaskRight | 0.043495 |
CircGradBasedCorrMaskRoundness | 0 |
CircGradBasedCorrMaskTop (1) | 0.131871 |
CircGradBasedCorrMaskTop (10) | 0.219567 |
CircGradBasedCorrMaskTop (11) | 0.155622 |
CircGradBasedCorrMaskTop (12) | 0.267378 |
CircGradBasedCorrMaskTop (14) | 0.375030 |
CircGradBasedCorrMaskTop (15) | 0.586669 |
CircGradBasedCorrMaskTop (16) | 0.613785 |
CircGradBasedCorrMaskTop (17) | 0.722449 |
CircGradBasedCorrMaskTop (18) | 0.636260 |
CircGradBasedCorrMaskTop (19) | 0.744232 |
CircGradBasedCorrMaskTop (2) | 0.376940 |
CircGradBasedCorrMaskTop (20) | 0.630027 |
CircGradBasedCorrMaskTop (21) | 0.594779 |
CircGradBasedCorrMaskTop (22) | 0.416622 |
CircGradBasedCorrMaskTop (23) | 0.485826 |
CircGradBasedCorrMaskTop (3) | 0.441226 |
CircGradBasedCorrMaskTop (4) | 0.429864 |
CircGradBasedCorrMaskTop (5) | 0.424625 |
CircGradBasedCorrMaskTop (6) | 0.415368 |
CircGradBasedCorrMaskTop (8) | 0.373595 |
CircGradBasedCorrMaskTop (9) | 0.270474 |
CircGradBasedCorrMaskTop | 0.398721 |
CircGradBasedCorrMaskValue | 1.000000 |
CircGradBasedCorrMaskVersion | +2 |
CircGradBasedCorrMoire | 0.000000 |
CircGradBasedCorrSaturation | 0.000000 |
CircGradBasedCorrShadows2012 | 0.000000 |
CircGradBasedCorrSharpness | 0.000000 |
CircGradBasedCorrTemperature | 0.000000 |
CircGradBasedCorrTint | 0.000000 |
CircGradBasedCorrWhat | Correction |
CircleOfConfusion | 0.019 mm |
Clarity2012 | 0 |
ColorComponents | 3 |
ColorNoiseReduction | 25 |
ColorNoiseReductionDetail | 50 |
ColorNoiseReductionSmoothness | 50 |
ColorSpace | sRGB |
ColorTemperature | 5035 |
ColorTransform | YCbCr |
Contrast2012 | +72 |
ConvertToGrayscale | False |
Copyright | Mikkel Nordbaek |
CopyrightNotice | Mikkel Nordbaek |
CreateDate (1) | 2016:08:25 20:04:53.26 |
CreateDate | 2016:08:25 20:04:53 |
Creator | Mikkel Nordbaek |
CustomRendered | Normal |
DateCreated (1) | 2016:08:25 |
DateCreated | 2016:08:25 20:04:53.26 |
DateTimeOriginal | 2016:08:25 20:04:53 |
DefringeGreenAmount | 0 |
DefringeGreenHueHi | 60 |
DefringeGreenHueLo | 40 |
DefringePurpleAmount | 0 |
DefringePurpleHueHi | 70 |
DefringePurpleHueLo | 30 |
Dehaze | 0 |
DOF | inf (1.78 m - inf) |
Exposure2012 | +0.24 |
ExposureCompensation | 0 |
ExposureMode | Manual |
ExposureProgram | Manual |
ExposureTime | 1/25 |
Firmware | 1.0.9 |
Flash | Off, Did not fire |
FlashCompensation | 0 |
FNumber | 13.0 |
FocalLength | 21.0 mm |
Format | image/jpeg |
FOV | 57.2 deg |
GradientBasedCorrActive | true |
GradientBasedCorrAmount | 1.000000 |
GradientBasedCorrBrightness | 0.000000 |
GradientBasedCorrClarity2012 | 0.000000 |
GradientBasedCorrContrast2012 | 0.000000 |
GradientBasedCorrDefringe | 0.000000 |
GradientBasedCorrExposure2012 | -0.227500 |
GradientBasedCorrHighlights2012 | 0.000000 |
GradientBasedCorrHue | 0.000000 |
GradientBasedCorrLocalBlacks2012 | 0.000000 |
GradientBasedCorrLocalDehaze | 0.000000 |
GradientBasedCorrLocalWhites2012 | 0.000000 |
GradientBasedCorrLuminanceNoise | 0.000000 |
GradientBasedCorrMaskFullX (1) | 0.505395 |
GradientBasedCorrMaskFullX (2) | 0.499716 |
GradientBasedCorrMaskFullX | 0.793867 |
GradientBasedCorrMaskFullY (1) | 0.971039 |
GradientBasedCorrMaskFullY (2) | 0.192504 |
GradientBasedCorrMaskFullY | 0.944634 |
GradientBasedCorrMaskValue | 1.000000 |
GradientBasedCorrMaskWhat | Mask/Gradient |
GradientBasedCorrMaskZeroX (1) | 0.505395 |
GradientBasedCorrMaskZeroX (2) | 0.499716 |
GradientBasedCorrMaskZeroX | 0.753002 |
GradientBasedCorrMaskZeroY (1) | 0.565588 |
GradientBasedCorrMaskZeroY (2) | 0.724021 |
GradientBasedCorrMaskZeroY | 0.576847 |
GradientBasedCorrMoire | 0.000000 |
GradientBasedCorrSaturation (3) | -0.793100 |
GradientBasedCorrSaturation | 0.000000 |
GradientBasedCorrShadows2012 (2) | 1.000000 |
GradientBasedCorrShadows2012 | 0.000000 |
GradientBasedCorrSharpness | 0.000000 |
GradientBasedCorrTemperature | 0.000000 |
GradientBasedCorrTint (2) | 0.517240 |
GradientBasedCorrTint | 0.000000 |
GradientBasedCorrWhat | Correction |
GrainAmount | 0 |
GreenHue | 0 |
GreenSaturation | 0 |
HasCrop | False |
HasSettings | True |
Highlights2012 | 0 |
HueAdjustmentAqua | +22 |
HueAdjustmentBlue | +5 |
HueAdjustmentGreen | +2 |
HueAdjustmentMagenta | +13 |
HueAdjustmentOrange | 0 |
HueAdjustmentPurple | +83 |
HueAdjustmentRed | 0 |
HueAdjustmentYellow | -2 |
HyperfocalDistance | 1.78 m |
ImageHeight | 3456 |
ImageNumber | 0 |
ImageSize | 5184x3456 |
ImageWidth | 5184 |
ISO | 100 |
Lens | EF-S18-55mm f/3.5-5.6 III |
LensID (1) | 53 |
LensID | Canon EF-S 18-55mm f/3.5-5.6 III |
LensInfo | 18-55mm f/? |
LensManualDistortionAmount | 0 |
LensModel | EF-S18-55mm f/3.5-5.6 III |
LensProfileChromaticAberrationScale | 100 |
LensProfileDistortionScale | 100 |
LensProfileEnable | 1 |
LensProfileSetup | Custom |
LensProfileVignettingScale | 80 |
LightValue | 12.0 |
LuminanceAdjustmentAqua | +2 |
LuminanceAdjustmentBlue | +64 |
LuminanceAdjustmentGreen | 0 |
LuminanceAdjustmentMagenta | 0 |
LuminanceAdjustmentOrange | 0 |
LuminanceAdjustmentPurple | 0 |
LuminanceAdjustmentRed | 0 |
LuminanceAdjustmentYellow | 0 |
LuminanceNoiseReductionContrast | 0 |
LuminanceNoiseReductionDetail | 50 |
LuminanceSmoothing | 36 |
Make | Canon |
MaxApertureValue | 3.5 |
Megapixels | 17.9 |
MeteringMode | Multi-segment |
Model | Canon EOS 550D |
ModifyDate (1) | 2016:08:27 01:19:03+02:00 |
ModifyDate | 2016:08:27 01:19:03 |
PaintCorrectionActive | true |
PaintCorrectionAmount | 1.000000 |
PaintCorrectionBrightness | 0.000000 |
PaintCorrectionClarity2012 (1) | 0.268970 |
PaintCorrectionClarity2012 (10) | 0.006900 |
PaintCorrectionClarity2012 | 0.000000 |
PaintCorrectionContrast2012 | 0.000000 |
PaintCorrectionDefringe | 0.000000 |
PaintCorrectionExposure2012 (1) | 0.144750 |
PaintCorrectionExposure2012 (11) | 0.075750 |
PaintCorrectionExposure2012 (12) | 0.062000 |
PaintCorrectionExposure2012 (13) | 0.227500 |
PaintCorrectionExposure2012 (15) | 0.020750 |
PaintCorrectionExposure2012 (17) | 0.000000 |
PaintCorrectionExposure2012 (18) | 0.117250 |
PaintCorrectionExposure2012 (22) | 0.034500 |
PaintCorrectionExposure2012 (23) | 0.048250 |
PaintCorrectionExposure2012 (4) | -0.075750 |
PaintCorrectionExposure2012 (5) | 0.089750 |
PaintCorrectionExposure2012 (7) | 0.103500 |
PaintCorrectionExposure2012 (8) | 0.172500 |
PaintCorrectionExposure2012 (9) | 0.131000 |
PaintCorrectionExposure2012 | -0.117250 |
PaintCorrectionHighlights2012 | 0.000000 |
PaintCorrectionHue | 0.000000 |
PaintCorrectionLocalBlacks2012 | 0.000000 |
PaintCorrectionLocalDehaze | 0.000000 |
PaintCorrectionLocalWhites2012 | 0.000000 |
PaintCorrectionLuminanceNoise | 0.000000 |
PaintCorrectionMaskCenterWeight | 0.000000 |
PaintCorrectionMaskFlow | 1.000000 |
PaintCorrectionMaskRadius (1) | 0.084257 |
PaintCorrectionMaskRadius (14) | 0.054706 |
PaintCorrectionMaskRadius (16) | 0.166754 |
PaintCorrectionMaskRadius (17) | 0.069235 |
PaintCorrectionMaskRadius (18) | 0.115778 |
PaintCorrectionMaskRadius (19) | 0.042111 |
PaintCorrectionMaskRadius (20) | 0.028622 |
PaintCorrectionMaskRadius (25) | 0.021030 |
PaintCorrectionMaskRadius (3) | 0.222162 |
PaintCorrectionMaskRadius (47) | 0.027125 |
PaintCorrectionMaskRadius (55) | 0.033835 |
PaintCorrectionMaskRadius (64) | 0.011273 |
PaintCorrectionMaskRadius (65) | 0.011281 |
PaintCorrectionMaskRadius (66) | 0.011285 |
PaintCorrectionMaskRadius (67) | 0.011256 |
PaintCorrectionMaskRadius (68) | 0.011250 |
PaintCorrectionMaskRadius (69) | 0.126891 |
PaintCorrectionMaskRadius (70) | 0.151603 |
PaintCorrectionMaskRadius (71) | 0.151912 |
PaintCorrectionMaskRadius (72) | 0.155740 |
PaintCorrectionMaskRadius (73) | 0.151417 |
PaintCorrectionMaskRadius (74) | 0.032583 |
PaintCorrectionMaskRadius (75) | 0.032719 |
PaintCorrectionMaskRadius (76) | 0.032997 |
PaintCorrectionMaskRadius (77) | 0.032935 |
PaintCorrectionMaskRadius (78) | 0.033072 |
PaintCorrectionMaskRadius (79) | 0.033421 |
PaintCorrectionMaskRadius | 0.014166 |
PaintCorrectionMaskValue (6) | 0.381000 |
PaintCorrectionMaskValue | 1.000000 |
PaintCorrectionMaskWhat | Mask/Paint |
PaintCorrectionMoire | 0.000000 |
PaintCorrectionSaturation | 0.000000 |
PaintCorrectionShadows2012 (14) | -0.020690 |
PaintCorrectionShadows2012 (3) | 1.000000 |
PaintCorrectionShadows2012 | 0.000000 |
PaintCorrectionSharpness (10) | 0.034480 |
PaintCorrectionSharpness | 0.000000 |
PaintCorrectionTemperature (15) | -0.048280 |
PaintCorrectionTemperature (3) | 0.172410 |
PaintCorrectionTemperature | 0.000000 |
PaintCorrectionTint (3) | 0.310340 |
PaintCorrectionTint | 0.000000 |
PaintCorrectionWhat | Correction |
ParametricDarks | -3 |
ParametricHighlights | +100 |
ParametricHighlightSplit | 75 |
ParametricLights | 0 |
ParametricMidtoneSplit | 50 |
ParametricShadows | +78 |
ParametricShadowSplit | 25 |
PerspectiveAspect | 0 |
PerspectiveHorizontal | 0 |
PerspectiveRotate | 0.0 |
PerspectiveScale | 100 |
PerspectiveUpright | 0 |
PerspectiveVertical | 0 |
PerspectiveX | 0.00 |
PerspectiveY | 0.00 |
PostCropVignetteAmount | -3 |
PostCropVignetteFeather | 50 |
PostCropVignetteHighlightContrast | 0 |
PostCropVignetteMidpoint | 50 |
PostCropVignetteRoundness | 0 |
PostCropVignetteStyle | 1 |
ProcessVersion | 6.7 |
ProfileDescription | sRGB IEC61966-2.1 |
RedHue | 0 |
RedSaturation | 0 |
Rights | Mikkel Nordbaek |
Saturation | -27 |
SaturationAdjustmentAqua | 0 |
SaturationAdjustmentBlue | 0 |
SaturationAdjustmentGreen | -42 |
SaturationAdjustmentMagenta | 0 |
SaturationAdjustmentOrange | 0 |
SaturationAdjustmentPurple | 0 |
SaturationAdjustmentRed | 0 |
SaturationAdjustmentYellow | -19 |
ScaleFactor35efl | 1.6 |
SceneCaptureType | Standard |
SerialNumber | 2933541025 |
Shadows2012 | +89 |
ShadowTint | 0 |
SharpenDetail | 25 |
SharpenEdgeMasking | 66 |
SharpenRadius | +1.0 |
Sharpness | 69 |
ShutterSpeed | 1/25 |
ShutterSpeedValue | 1/25 |
SplitToningBalance | 0 |
SplitToningHighlightHue | 173 |
SplitToningHighlightSaturation | 40 |
SplitToningShadowHue | 259 |
SplitToningShadowSaturation | 32 |
Tint | +10 |
ToneCurve | 0, 0, 255, 255 |
ToneCurveBlue | 0, 0, 255, 255 |
ToneCurveGreen | 0, 0, 255, 255 |
ToneCurveName | Linear |
ToneCurveName2012 | Medium Contrast |
ToneCurvePV2012 | 0, 0, 32, 22, 64, 56, 128, 128, 192, 196, 255, 255 |
ToneCurvePV2012Blue | 0, 0, 255, 255 |
ToneCurvePV2012Green | 0, 0, 255, 255 |
ToneCurvePV2012Red | 0, 0, 255, 255 |
ToneCurveRed | 0, 0, 255, 255 |
ToneMapStrength | 0 |
Version | 9.6 |
Vibrance | 0 |
VignetteAmount | 0 |
WhiteBalance (1) | Custom |
WhiteBalance | Auto |
Whites2012 | 0 |