Felt | Verdi |
AlreadyApplied | True |
Aperture | 9.0 |
ApertureValue | 9.0 |
ApproximateFocusDistance | 4294967295 |
Artist | Mikkel Nordbaek |
AutoLateralCA | 1 |
AutoWhiteVersion | 134348800 |
BitsPerSample | 8 |
BlackClip | 0.475339 |
Blacks2012 | 0 |
BlueHue | 0 |
BlueSaturation | 0 |
By-line | Mikkel Nordbaek |
CameraProfile | Embedded |
CircGradBasedCorrActive | true |
CircGradBasedCorrAmount | 1.000000 |
CircGradBasedCorrBrightness | 0.000000 |
CircGradBasedCorrClarity2012 | 0.764710 |
CircGradBasedCorrContrast2012 | 0.000000 |
CircGradBasedCorrDefringe | 0.000000 |
CircGradBasedCorrExposure2012 | -0.058750 |
CircGradBasedCorrHighlights2012 | 0.000000 |
CircGradBasedCorrHue | 240.000000 |
CircGradBasedCorrLocalBlacks2012 | 0.000000 |
CircGradBasedCorrLocalDehaze | 0.000000 |
CircGradBasedCorrLocalWhites2012 | 0.000000 |
CircGradBasedCorrLuminanceNoise | 0.000000 |
CircGradBasedCorrMaskAngle | -0.331715 |
CircGradBasedCorrMaskBottom (1) | 0.635040 |
CircGradBasedCorrMaskBottom (2) | 0.641514 |
CircGradBasedCorrMaskBottom (3) | 0.484139 |
CircGradBasedCorrMaskBottom (4) | 0.481306 |
CircGradBasedCorrMaskBottom (5) | 0.482031 |
CircGradBasedCorrMaskBottom (6) | 0.479213 |
CircGradBasedCorrMaskBottom (7) | 0.478071 |
CircGradBasedCorrMaskBottom (8) | 0.481364 |
CircGradBasedCorrMaskBottom | 0.355703 |
CircGradBasedCorrMaskFeather | +100 |
CircGradBasedCorrMaskFlipped | true |
CircGradBasedCorrMaskLeft (1) | 0.653082 |
CircGradBasedCorrMaskLeft (2) | 0.724445 |
CircGradBasedCorrMaskLeft (3) | 0.788804 |
CircGradBasedCorrMaskLeft (4) | 0.722866 |
CircGradBasedCorrMaskLeft (5) | 0.652784 |
CircGradBasedCorrMaskLeft (6) | 0.581375 |
CircGradBasedCorrMaskLeft (7) | 0.490346 |
CircGradBasedCorrMaskLeft (8) | 0.406449 |
CircGradBasedCorrMaskLeft | 0.492558 |
CircGradBasedCorrMaskMidpoint | +50 |
CircGradBasedCorrMaskRight (1) | 0.697029 |
CircGradBasedCorrMaskRight (2) | 0.768391 |
CircGradBasedCorrMaskRight (3) | 0.831652 |
CircGradBasedCorrMaskRight (4) | 0.765718 |
CircGradBasedCorrMaskRight (5) | 0.695688 |
CircGradBasedCorrMaskRight (6) | 0.624301 |
CircGradBasedCorrMaskRight (7) | 0.541528 |
CircGradBasedCorrMaskRight (8) | 0.457609 |
CircGradBasedCorrMaskRight | 0.542704 |
CircGradBasedCorrMaskRoundness | 0 |
CircGradBasedCorrMaskTop (1) | 0.506870 |
CircGradBasedCorrMaskTop (2) | 0.513349 |
CircGradBasedCorrMaskTop (3) | 0.359176 |
CircGradBasedCorrMaskTop (4) | 0.356331 |
CircGradBasedCorrMaskTop (5) | 0.356905 |
CircGradBasedCorrMaskTop (6) | 0.354023 |
CircGradBasedCorrMaskTop (7) | 0.352941 |
CircGradBasedCorrMaskTop (8) | 0.356287 |
CircGradBasedCorrMaskTop | 0.253734 |
CircGradBasedCorrMaskValue | 1.000000 |
CircGradBasedCorrMaskVersion | +2 |
CircGradBasedCorrMaskWhat | Mask/CircularGradient |
CircGradBasedCorrMoire | 0.000000 |
CircGradBasedCorrSaturation | 0.000000 |
CircGradBasedCorrShadows2012 | 0.000000 |
CircGradBasedCorrSharpness | 0.205880 |
CircGradBasedCorrTemperature | 0.000000 |
CircGradBasedCorrTint | 0.000000 |
CircGradBasedCorrWhat | Correction |
CircleOfConfusion | 0.030 mm |
Clarity2012 | 0 |
ColorComponents | 3 |
ColorNoiseReduction | 100 |
ColorNoiseReductionDetail | 50 |
ColorNoiseReductionSmoothness | 50 |
ColorSaturation | 100.0 |
ColorSpace | sRGB |
ColorTemperature | 3.6 |
ColorTransform | YCbCr |
Contrast2012 | +7 |
ConvertToGrayscale | False |
Copyright | Mikkel Nordbaek |
CopyrightNotice | Mikkel Nordbaek |
CreateDate (1) | 2016:11:27 15:13:42.00 |
CreateDate | 2016:11:27 15:13:42 |
Creator | Mikkel Nordbaek |
CreatorTool | Adobe Photoshop Lightroom 6.6.1 (Windows) |
CropAngle | -0.2 |
CropBottom | 0.994791 |
CropConstrainToWarp | 0 |
CropLeft | 0.002149 |
CropRight | 0.999257 |
CropTop | 0.005209 |
CustomRendered | Normal |
DateCreated (1) | 2016:11:27 |
DateCreated | 2016:11:27 15:13:42.00 |
DateTimeOriginal | 2016:11:27 15:13:42 |
DefringeGreenAmount | 0 |
DefringeGreenHueHi | 60 |
DefringeGreenHueLo | 40 |
DefringePurpleAmount | 0 |
DefringePurpleHueHi | 70 |
DefringePurpleHueLo | 30 |
Dehaze | 0 |
DOF | inf (3.81 m - inf) |
Exposure2012 | 0.00 |
ExposureCompensation | 0 |
ExposureMode | Manual |
ExposureProgram | Manual |
ExposureTime | 1/13 |
Firmware | 1.1.6 |
Flash | Off, Did not fire |
FlashCompensation | 0 |
FNumber | 9.0 |
FocalLength | 32.0 mm |
FocalLength35efl | 32.0 mm (35 mm equivalent: 32.2 mm) |
Format | image/jpeg |
FOV | 58.5 deg |
Gamma | 1.49 |
GradientBasedCorrActive | true |
GradientBasedCorrAmount | 1.000000 |
GradientBasedCorrBrightness | 0.000000 |
GradientBasedCorrClarity2012 (1) | -0.441180 |
GradientBasedCorrClarity2012 | 0.000000 |
GradientBasedCorrContrast2012 | 0.000000 |
GradientBasedCorrDefringe | 0.000000 |
GradientBasedCorrExposure2012 (1) | -0.132250 |
GradientBasedCorrExposure2012 (2) | -0.353000 |
GradientBasedCorrExposure2012 | -0.338250 |
GradientBasedCorrHighlights2012 (1) | 0.000000 |
GradientBasedCorrHighlights2012 | -0.632350 |
GradientBasedCorrHue | 240.000000 |
GradientBasedCorrLocalBlacks2012 | 0.000000 |
GradientBasedCorrLocalDehaze | 0.000000 |
GradientBasedCorrLocalWhites2012 | 0.000000 |
GradientBasedCorrLuminanceNoise (1) | 1.000000 |
GradientBasedCorrLuminanceNoise | 0.000000 |
GradientBasedCorrMaskCenterWeight | 0.269752 |
GradientBasedCorrMaskFlow | 1.000000 |
GradientBasedCorrMaskFullX (1) | 0.542905 |
GradientBasedCorrMaskFullX (2) | 0.183480 |
GradientBasedCorrMaskFullX | 0.953859 |
GradientBasedCorrMaskFullY (1) | 0.148982 |
GradientBasedCorrMaskFullY (2) | 0.813973 |
GradientBasedCorrMaskFullY | 0.759333 |
GradientBasedCorrMaskRadius (1) | 0.035624 |
GradientBasedCorrMaskRadius (2) | 0.024017 |
GradientBasedCorrMaskRadius | 0.031645 |
GradientBasedCorrMaskValue (3) | 0.000000 |
GradientBasedCorrMaskValue | 1.000000 |
GradientBasedCorrMaskWhat (3) | Mask/Paint |
GradientBasedCorrMaskWhat | Mask/Gradient |
GradientBasedCorrMaskZeroX (1) | 0.543690 |
GradientBasedCorrMaskZeroX (2) | 0.417970 |
GradientBasedCorrMaskZeroX | 0.738873 |
GradientBasedCorrMaskZeroY (1) | 0.357100 |
GradientBasedCorrMaskZeroY (2) | 0.501543 |
GradientBasedCorrMaskZeroY | 0.433175 |
GradientBasedCorrMoire | 0.000000 |
GradientBasedCorrSaturation | 0.000000 |
GradientBasedCorrShadows2012 | 0.000000 |
GradientBasedCorrSharpness | 0.000000 |
GradientBasedCorrTemperature | 0.000000 |
GradientBasedCorrTint | 0.000000 |
GradientBasedCorrWhat | Correction |
GrainAmount | 0 |
GreenHue | 0 |
GreenSaturation | 0 |
HasCrop | True |
HasExtendedXMP | 602E3D5B1DBFAC5EEB1CDD1A5CE0BF36 |
HasSettings | True |
Highlights2012 | 0 |
HighlightsSmoothing | 13.0 |
HueAdjustmentAqua | 0 |
HueAdjustmentBlue | 0 |
HueAdjustmentGreen | -54 |
HueAdjustmentMagenta | 0 |
HueAdjustmentOrange | 0 |
HueAdjustmentPurple | 0 |
HueAdjustmentRed | 0 |
HueAdjustmentYellow | 0 |
HyperfocalDistance | 3.81 m |
ImageHeight | 3629 |
ImageNumber | 0 |
ImageSize | 5444x3629 |
ImageWidth | 5444 |
IncrementalTemperature | 0 |
IncrementalTint | 0 |
ISO | 100 |
IsPano360 | No |
Lens | EF24-105mm f/4L IS USM |
LensID (1) | 237 |
LensID | Canon EF 24-105mm f/4L IS USM |
LensInfo | 24-105mm f/? |
LensManualDistortionAmount | 0 |
LensModel | EF24-105mm f/4L IS USM |
LensProfileChromaticAberrationScale | 100 |
LensProfileDistortionScale | 100 |
LensProfileEnable | 1 |
LensProfileFilename | Canon EOS-1Ds Mark III (Canon EF 24-105mm f4 L IS USM).lcp |
LensProfileName | Adobe (Canon EF 24-105mm f/4 L IS USM) |
LensProfileSetup | LensDefaults |
LensProfileVignettingScale | 100 |
LensSerialNumber | 0000a2cf95 |
LightValue | 10.0 |
LuminanceAdjustmentAqua | 0 |
LuminanceAdjustmentBlue | 0 |
LuminanceAdjustmentGreen | 0 |
LuminanceAdjustmentMagenta | 0 |
LuminanceAdjustmentOrange | 0 |
LuminanceAdjustmentPurple | 0 |
LuminanceAdjustmentRed | 0 |
LuminanceAdjustmentYellow | 0 |
LuminanceNoiseReductionContrast | 0 |
LuminanceNoiseReductionDetail | 50 |
LuminanceSmoothing | 10 |
Luminosity | 10.0 |
Make | Canon |
MaxApertureValue | 4.0 |
Megapixels | 19.8 |
MeteringMode | Multi-segment |
Method | Details Enhancer |
Microcontrast | 10.0 |
Microsmoothing | 1.3 |
Model | Canon EOS 6D |
ModifyDate (1) | 2016:11:28 20:12:54+01:00 |
ModifyDate | 2016:11:28 20:12:54 |
PaintCorrectionActive | true |
PaintCorrectionAmount | 1.000000 |
PaintCorrectionBrightness | 0.000000 |
PaintCorrectionClarity2012 | 0.000000 |
PaintCorrectionContrast2012 | 0.000000 |
PaintCorrectionDefringe | 0.000000 |
PaintCorrectionExposure2012 (1) | -0.117750 |
PaintCorrectionExposure2012 (2) | -0.029500 |
PaintCorrectionExposure2012 (3) | 0.206000 |
PaintCorrectionExposure2012 | -0.058750 |
PaintCorrectionHighlights2012 (1) | -0.426470 |
PaintCorrectionHighlights2012 (2) | -1.000000 |
PaintCorrectionHighlights2012 (3) | 0.235290 |
PaintCorrectionHighlights2012 | 0.000000 |
PaintCorrectionHue | 240.000000 |
PaintCorrectionLocalBlacks2012 | 0.000000 |
PaintCorrectionLocalDehaze | 0.000000 |
PaintCorrectionLocalWhites2012 | 0.000000 |
PaintCorrectionLuminanceNoise (3) | 0.000000 |
PaintCorrectionLuminanceNoise | 1.000000 |
PaintCorrectionMaskCenterWeight | 0.000000 |
PaintCorrectionMaskFlow (12) | 0.835000 |
PaintCorrectionMaskFlow | 1.000000 |
PaintCorrectionMaskRadius (1) | 0.032451 |
PaintCorrectionMaskRadius (10) | 0.050503 |
PaintCorrectionMaskRadius (11) | 0.050288 |
PaintCorrectionMaskRadius (12) | 0.050837 |
PaintCorrectionMaskRadius (13) | 0.064553 |
PaintCorrectionMaskRadius (2) | 0.052869 |
PaintCorrectionMaskRadius (3) | 0.079986 |
PaintCorrectionMaskRadius (4) | 0.080409 |
PaintCorrectionMaskRadius (5) | 0.064566 |
PaintCorrectionMaskRadius (6) | 0.065327 |
PaintCorrectionMaskRadius (7) | 0.049730 |
PaintCorrectionMaskRadius (8) | 0.050329 |
PaintCorrectionMaskRadius (9) | 0.050544 |
PaintCorrectionMaskRadius | 0.064459 |
PaintCorrectionMaskValue | 1.000000 |
PaintCorrectionMaskWhat | Mask/Paint |
PaintCorrectionMoire | 0.000000 |
PaintCorrectionSaturation (1) | -0.647060 |
PaintCorrectionSaturation (3) | -0.455880 |
PaintCorrectionSaturation | 0.000000 |
PaintCorrectionShadows2012 | 0.000000 |
PaintCorrectionSharpness | 0.000000 |
PaintCorrectionTemperature | 0.000000 |
PaintCorrectionTint | 0.000000 |
PaintCorrectionWhat | Correction |
ParametricDarks | 0 |
ParametricHighlights | +11 |
ParametricHighlightSplit | 75 |
ParametricLights | 0 |
ParametricMidtoneSplit | 50 |
ParametricShadows | -11 |
ParametricShadowSplit | 25 |
PerspectiveAspect | 0 |
PerspectiveHorizontal | 0 |
PerspectiveRotate | 0.0 |
PerspectiveScale | 100 |
PerspectiveUpright | 1 |
PerspectiveVertical | 0 |
PerspectiveX | 0.00 |
PerspectiveY | 0.00 |
PostCropVignetteAmount | -9 |
PostCropVignetteFeather | 50 |
PostCropVignetteHighlightContrast | 0 |
PostCropVignetteMidpoint | 50 |
PostCropVignetteRoundness | 0 |
PostCropVignetteStyle | 1 |
ProcessVersion | 6.7 |
ProfileDescription | sRGB IEC61966-2.1 |
RecommendedExposureIndex | 100 |
RedHue | 0 |
RedSaturation | 0 |
Rights | Mikkel Nordbaek |
Saturation | 0 |
SaturationAdjustmentAqua | 0 |
SaturationAdjustmentBlue | 0 |
SaturationAdjustmentGreen | -63 |
SaturationAdjustmentMagenta | 0 |
SaturationAdjustmentOrange | 0 |
SaturationAdjustmentPurple | -5 |
SaturationAdjustmentRed | 0 |
SaturationAdjustmentYellow | +21 |
SaturationHighlights | -6.8 |
SaturationShadows | -9.2 |
ScaleFactor35efl | 1.0 |
SceneCaptureType | Standard |
SensitivityType | Recommended Exposure Index |
SerialNumber | 023052000141 |
Shadows2012 | 0 |
ShadowsClipping | 0.0 |
ShadowsSmoothing | 0.0 |
ShadowTint | 0 |
SharpenDetail | 25 |
SharpenEdgeMasking | 40 |
SharpenRadius | +1.0 |
Sharpness | 71 |
ShutterSpeed | 1/13 |
ShutterSpeedValue | 1/13 |
Smoothing | -8.5 |
SmoothingMode | Slider |
Software | Adobe Photoshop Lightroom 6.6.1 (Windows) |
SplitToningBalance | 0 |
SplitToningHighlightHue | 0 |
SplitToningHighlightSaturation | 0 |
SplitToningShadowHue | 0 |
SplitToningShadowSaturation | 0 |
Strength | 100.0 |
ToneCurve | 0, 0, 255, 255 |
ToneCurveBlue | 0, 0, 255, 255 |
ToneCurveGreen | 0, 0, 255, 255 |
ToneCurveName | Linear |
ToneCurveName2012 | Linear |
ToneCurvePV2012 | 0, 0, 255, 255 |
ToneCurvePV2012Blue | 0, 0, 255, 255 |
ToneCurvePV2012Green | 0, 0, 255, 255 |
ToneCurvePV2012Red | 0, 0, 255, 255 |
ToneCurveRed | 0, 0, 255, 255 |
ToneMapStrength | 0 |
Version (1) | 5.1 |
Version | 9.6 |
Vibrance | +6 |
VignetteAmount | 0 |
WhiteBalance (1) | As Shot |
WhiteBalance | Auto |
WhiteClip | 0.437064 |
Whites2012 | 0 |