Felt | Verdi |
AlreadyApplied | True |
Aperture | 7.1 |
ApertureValue | 7.1 |
ApproximateFocusDistance | 20 |
AutoLateralCA | 1 |
AutoWhiteVersion | 134348800 |
BitsPerSample | 8 |
Blacks2012 | -14 |
BlueHue | +51 |
BlueSaturation | -69 |
CameraProfile | Adobe Standard |
CFAPattern | [Red,Green][Green,Blue] |
CircleOfConfusion | 0.030 mm |
Clarity2012 | +83 |
ColorComponents | 3 |
ColorNoiseReduction | 0 |
ColorTemperature | 4850 |
ColorTransform | YCbCr |
Contrast | Normal |
Contrast2012 | +12 |
ConvertToGrayscale | True |
CreateDate (1) | 2018:07:02 16:19:45.94 |
CreateDate | 2018:07:02 16:19:45 |
CreatorTool | Adobe Photoshop Lightroom 5.6 (Windows) |
CropAngle | 0 |
CropBottom | 0.868958 |
CropConstrainToWarp | 0 |
CropLeft | 0.072514 |
CropRight | 0.879204 |
CropTop | 0.062267 |
CustomRendered | Normal |
DateCreated (1) | 2018:07:02 |
DateCreated | 2018:07:02 16:19:45.94 |
DateTimeOriginal | 2018:07:02 16:19:45 |
DigitalZoomRatio | 1 |
DOF | 0.67 m (19.67 - 20.34 m) |
Exposure2012 | -0.24 |
ExposureCompensation | 0 |
ExposureMode | Auto |
ExposureProgram | Aperture-priority AE |
ExposureTime | 1/1000 |
Flash | Off, Did not fire |
FNumber | 7.1 |
FocalLength | 500.0 mm |
FocalLength35efl | 500.0 mm (35 mm equivalent: 500.0 mm) |
FocalLengthIn35mmFormat | 500 mm |
Format | image/jpeg |
FOV | 4.1 deg |
GainControl | Low gain up |
GrainAmount | 0 |
GrayMixerAqua | -19 |
GrayMixerBlue | +6 |
GrayMixerGreen | -22 |
GrayMixerMagenta | +10 |
GrayMixerOrange | -13 |
GrayMixerPurple | +12 |
GrayMixerRed | -7 |
GrayMixerYellow | -25 |
GreenHue | +57 |
GreenSaturation | +51 |
HasCrop | True |
HasSettings | True |
Highlights2012 | -36 |
HyperfocalDistance | 1171.90 m |
ImageHeight | 1367 |
ImageNumber | 32140 |
ImageSize | 2048x1367 |
ImageWidth | 2048 |
ISO | 400 |
Keywords | Kenya |
Label | Röd |
Lens | 500.0 mm f/4.0 |
LensID (1) | 151 |
LensID | AF-S VR Nikkor 500mm f/4G ED |
LensInfo | 500mm f/4 |
LensManualDistortionAmount | 0 |
LensModel | 500.0 mm f/4.0 |
LensProfileEnable | 0 |
LensProfileSetup | LensDefaults |
LightSource | Unknown |
LightValue | 13.6 |
LuminanceNoiseReductionContrast | 0 |
LuminanceNoiseReductionDetail | 50 |
LuminanceSmoothing | 13 |
Make | NIKON CORPORATION |
MaxApertureValue | 4.0 |
Megapixels | 2.8 |
MeteringMode | Multi-segment |
Model | NIKON D810 |
ModifyDate (1) | 2018:07:31 19:12:13+02:00 |
ModifyDate | 2018:07:31 19:12:13 |
PaintCorrectionActive | true |
PaintCorrectionAmount | 1.000000 |
PaintCorrectionBrightness | 0.000000 |
PaintCorrectionClarity2012 | 0.000000 |
PaintCorrectionContrast2012 | 0.000000 |
PaintCorrectionDefringe | 0.000000 |
PaintCorrectionExposure2012 (2) | 0.055500 |
PaintCorrectionExposure2012 (3) | 0.314750 |
PaintCorrectionExposure2012 (5) | -0.092500 |
PaintCorrectionExposure2012 (6) | -0.037000 |
PaintCorrectionExposure2012 | 0.000000 |
PaintCorrectionHighlights2012 (3) | 0.000000 |
PaintCorrectionHighlights2012 (4) | -0.537040 |
PaintCorrectionHighlights2012 (5) | -0.962960 |
PaintCorrectionHighlights2012 (6) | -1.000000 |
PaintCorrectionHighlights2012 | -0.870370 |
PaintCorrectionHue | 0.000000 |
PaintCorrectionLuminanceNoise | 0.000000 |
PaintCorrectionMaskCenterWeight | 0.000000 |
PaintCorrectionMaskFlow | 1.000000 |
PaintCorrectionMaskRadius (1) | 0.297850 |
PaintCorrectionMaskRadius (10) | 0.091441 |
PaintCorrectionMaskRadius (6) | 0.447808 |
PaintCorrectionMaskRadius (9) | 0.206405 |
PaintCorrectionMaskRadius | 0.111103 |
PaintCorrectionMaskValue (10) | 0.000000 |
PaintCorrectionMaskValue | 1.000000 |
PaintCorrectionMaskWhat | Mask/Paint |
PaintCorrectionMoire | 0.000000 |
PaintCorrectionSaturation | 0.000000 |
PaintCorrectionShadows2012 (2) | 0.925930 |
PaintCorrectionShadows2012 (3) | 0.629630 |
PaintCorrectionShadows2012 | 0.000000 |
PaintCorrectionSharpness | 0.000000 |
PaintCorrectionTemperature | 0.000000 |
PaintCorrectionTint | 0.000000 |
PaintCorrectionWhat | Correction |
ParametricDarks | 0 |
ParametricHighlights | -2 |
ParametricHighlightSplit | 75 |
ParametricLights | +43 |
ParametricMidtoneSplit | 50 |
ParametricShadows | -8 |
ParametricShadowSplit | 25 |
PerspectiveAspect | 0 |
PerspectiveHorizontal | 0 |
PerspectiveRotate | 0.0 |
PerspectiveScale | 100 |
PerspectiveUpright | 0 |
PerspectiveVertical | 0 |
PostCropVignetteAmount | -22 |
PostCropVignetteFeather | 50 |
PostCropVignetteHighlightContrast | 0 |
PostCropVignetteMidpoint | 50 |
PostCropVignetteRoundness | 0 |
PostCropVignetteStyle | 1 |
ProcessVersion | 6.7 |
ProfileDescription | sRGB IEC61966-2.1 |
RedHue | +5 |
RedSaturation | -2 |
Saturation | Normal |
ScaleFactor35efl | 1.0 |
SceneCaptureType | Standard |
SceneType | Directly photographed |
SensingMethod | One-chip color area |
SensitivityType | Recommended Exposure Index |
SerialNumber | 6014840 |
Shadows2012 | +12 |
ShadowTint | -8 |
SharpenDetail | 25 |
SharpenEdgeMasking | 19 |
SharpenRadius | +1.2 |
Sharpness (1) | 90 |
Sharpness | Normal |
ShutterSpeed | 1/1000 |
ShutterSpeedValue | 1/1000 |
Software | Adobe Photoshop Lightroom 5.6 (Windows) |
SplitToningBalance | 0 |
SplitToningHighlightHue | 50 |
SplitToningHighlightSaturation | 20 |
SplitToningShadowHue | 259 |
SplitToningShadowSaturation | 20 |
Subject | Kenya |
SubjectDistanceRange | Unknown |
Tint | +1 |
ToneCurve | 0, 0, 255, 255 |
ToneCurveBlue | 0, 0, 255, 255 |
ToneCurveGreen | 0, 0, 255, 255 |
ToneCurveName | Linear |
ToneCurveName2012 | Custom |
ToneCurvePV2012 | 0, 49, 86, 82, 134, 132, 234, 223, 255, 222 |
ToneCurvePV2012Blue | 0, 0, 255, 255 |
ToneCurvePV2012Green | 0, 0, 255, 255 |
ToneCurvePV2012Red | 0, 0, 255, 255 |
ToneCurveRed | 0, 0, 255, 255 |
Version | 8.6 |
VignetteAmount | 0 |
WhiteBalance (1) | As Shot |
WhiteBalance | Auto |
Whites2012 | -26 |