Felt | Verdi |
AlreadyApplied | True |
Aperture | 5.0 |
ApertureValue | 5.0 |
AutoLateralCA | 0 |
BitsPerSample | 8 |
Blacks2012 | -12 |
BlueHue | 0 |
BlueSaturation | 0 |
BrightnessValue | 5 |
CameraProfile | Adobe Standard |
CircleOfConfusion | 0.020 mm |
Clarity2012 | +10 |
ColorComponents | 3 |
ColorNoiseReduction | 25 |
ColorNoiseReductionDetail | 50 |
ColorNoiseReductionSmoothness | 50 |
ColorSpace | sRGB |
ColorTemperature | 5000 |
ColorTransform | YCbCr |
Contrast2012 | +19 |
ConvertToGrayscale | True |
CreateDate | 2018:09:07 16:58:24 |
CreatorTool | Adobe Photoshop Lightroom Classic 7.4 (Windows) |
CropAngle | 0.370644 |
CropBottom | 0.937102 |
CropConstrainToWarp | 0 |
CropLeft | 0.102828 |
CropRight | 0.996038 |
CropTop | 0.031286 |
DateCreated (1) | 2018:09:07 |
DateCreated | 2018:09:07 16:58:24 |
DateTimeOriginal | 2018:09:07 16:58:24 |
Dehaze | 0 |
Exposure2012 | -0.36 |
ExposureCompensation | 0 |
ExposureMode | Auto |
ExposureProgram | Aperture-priority AE |
ExposureTime | 1/160 |
Flash | Off, Did not fire |
FNumber | 5.0 |
FocalLength | 18.3 mm |
FocalLength35efl | 18.3 mm (35 mm equivalent: 28.0 mm) |
FocalLengthIn35mmFormat | 28 mm |
Format | image/jpeg |
FOV | 65.5 deg |
GrainAmount | 0 |
GrayMixerAqua | 0 |
GrayMixerBlue | 0 |
GrayMixerGreen | 0 |
GrayMixerMagenta | 0 |
GrayMixerOrange | 0 |
GrayMixerPurple | 0 |
GrayMixerRed | 0 |
GrayMixerYellow | 0 |
GreenHue | 0 |
GreenSaturation | 0 |
HasCrop | True |
HasSettings | True |
Highlights2012 | +14 |
HyperfocalDistance | 3.41 m |
ImageHeight | 4421 |
ImageSize | 2928x4421 |
ImageWidth | 2928 |
ISO | 400 |
Lens | 18.3 mm f/2.8 |
LensInfo | 18.3mm f/2.8 |
LensManualDistortionAmount | 0 |
LensModel | 18.3 mm f/2.8 |
LensProfileEnable | 0 |
LensProfileSetup | LensDefaults |
LightSource | Unknown |
LightValue | 10.0 |
LookAmount | 1.000000 |
LookGroup | Profiles |
LookName | Adobe Monochrome |
LookParametersCameraProfile | Adobe Standard |
LookParametersClarity2012 | +8 |
LookParametersConvertToGrayscale | True |
LookParametersLookTable | 73ED6C18DDE909DD7EA2D771F5AC282D |
LookParametersProcessVersion | 10.0 |
LookParametersToneCurvePV2012 | 0, 0, 64, 56, 128, 128, 192, 197, 255, 255 |
LookParametersToneCurvePV2012Blue | 0, 0, 255, 255 |
LookParametersToneCurvePV2012Green | 0, 0, 255, 255 |
LookParametersToneCurvePV2012Red | 0, 0, 255, 255 |
LookParametersVersion | 10.4 |
LookSupportsAmount | false |
LookSupportsMonochrome | false |
LookSupportsOutputReferred | false |
LuminanceSmoothing | 0 |
Make | RICOH IMAGING COMPANY, LTD. |
MaxApertureValue | 2.8 |
Megapixels | 12.9 |
MeteringMode | Multi-segment |
Model | GR |
ModifyDate (1) | 2018:09:12 08:52:27+02:00 |
ModifyDate | 2018:09:12 08:52:27 |
OverrideLookVignette | False |
ParametricDarks | 0 |
ParametricHighlights | 0 |
ParametricHighlightSplit | 75 |
ParametricLights | 0 |
ParametricMidtoneSplit | 50 |
ParametricShadows | 0 |
ParametricShadowSplit | 25 |
PerspectiveAspect | 0 |
PerspectiveHorizontal | 0 |
PerspectiveRotate | 0.0 |
PerspectiveScale | 100 |
PerspectiveUpright | 0 |
PerspectiveVertical | 0 |
PerspectiveX | 0.00 |
PerspectiveY | 0.00 |
PostCropVignetteAmount | 0 |
ProcessVersion | 10.0 |
ProfileDescription | sRGB IEC61966-2.1 |
RawFileName | |
RedHue | 0 |
RedSaturation | 0 |
ScaleFactor35efl | 1.5 |
SceneCaptureType | Standard |
Shadows2012 | -10 |
ShadowTint | 0 |
SharpenDetail | 25 |
SharpenEdgeMasking | 0 |
SharpenRadius | +1.0 |
Sharpness (1) | 40 |
Sharpness | Normal |
ShutterSpeed | 1/160 |
ShutterSpeedValue | 1/160 |
Software | Adobe Photoshop Lightroom Classic 7.4 (Windows) |
SplitToningBalance | 0 |
SplitToningHighlightHue | 0 |
SplitToningHighlightSaturation | 0 |
SplitToningShadowHue | 0 |
SplitToningShadowSaturation | 0 |
Tint | -6 |
ToneCurve | 0, 0, 255, 255 |
ToneCurveBlue | 0, 0, 255, 255 |
ToneCurveGreen | 0, 0, 255, 255 |
ToneCurveName | Linear |
ToneCurveName2012 | Linear |
ToneCurvePV2012 | 0, 0, 255, 255 |
ToneCurvePV2012Blue | 0, 0, 255, 255 |
ToneCurvePV2012Green | 0, 0, 255, 255 |
ToneCurvePV2012Red | 0, 0, 255, 255 |
ToneCurveRed | 0, 0, 255, 255 |
ToneMapStrength | 0 |
Version | 10.4 |
VignetteAmount | 0 |
WhiteBalance (1) | As Shot |
WhiteBalance | Auto |
Whites2012 | +14 |