Felt | Verdi |
AlreadyApplied | True |
Aperture | 2.8 |
ApertureValue | 2.8 |
Artist | TORMOD |
AutoLateralCA | 1 |
BitDepth | 16 |
Blacks2012 | 0 |
BlueHue | 0 |
BlueSaturation | 0 |
BrightnessValue | 5.5 |
By-line | TORMOD |
CameraProfile | Adobe Standard |
CameraProfilesApertureValue | 2.970854 |
CameraProfilesAuthor | Adobe |
CameraProfilesAutoScale | False |
CameraProfilesCameraPrettyName | Fujifilm GFX 50S II |
CameraProfilesCameraRawProfile | True |
CameraProfilesFocalLength | 45 |
CameraProfilesFocusDistance | 10000 |
CameraProfilesLens | GF45mmF2.8 R WR |
CameraProfilesLensPrettyName | GF45mmF2.8 R WR |
CameraProfilesMake | FUJIFILM |
CameraProfilesModel | GFX50S II |
CameraProfilesPerspectiveModelImageXCenter | 0.511143 |
CameraProfilesPerspectiveModelImageYCenter | 0.494832 |
CameraProfilesPerspectiveModelRadialDistortParam1 | -0.056807 |
CameraProfilesPerspectiveModelRadialDistortParam2 | -0.107428 |
CameraProfilesPerspectiveModelRadialDistortParam3 | 0.265914 |
CameraProfilesPerspectiveModelScaleFactor | 1.008975 |
CameraProfilesPerspectiveModelVersion | 2 |
CameraProfilesPerspectiveModelVignetteModelImageXCenter | 0.505572 |
CameraProfilesPerspectiveModelVignetteModelImageYCenter | 0.497416 |
CameraProfilesPerspectiveModelVignetteModelVignetteModelParam1 | 1 |
CameraProfilesPerspectiveModelVignetteModelVignetteModelPiecewiseParam | 0.000000, 1.000000, 0.216067, 0.883516, 0.305667, 0.794722, 0.374264, 0.725723, 0.432135, 0.670815, 0.483079, 0.621357, 0.529332, 0.578203, 0.571562, 0.541226, 0.611111, 0.507559, 0.648202, 0.507559 |
CameraProfilesProfileName | Camera Settings |
CameraProfilesSensorFormatFactor | 0.786666 |
CameraProfilesUniqueCameraModel | Fujifilm GFX 50S II |
CircleOfConfusion | 0.038 mm |
Clarity2012 | 0 |
ColorGradeBlending | 50 |
ColorGradeGlobalHue | 0 |
ColorGradeGlobalLum | 0 |
ColorGradeGlobalSat | 0 |
ColorGradeHighlightLum | 0 |
ColorGradeMidtoneHue | 0 |
ColorGradeMidtoneLum | 0 |
ColorGradeMidtoneSat | 0 |
ColorGradeShadowLum | 0 |
ColorMode | RGB |
ColorNoiseReduction | 25 |
ColorNoiseReductionDetail | 50 |
ColorNoiseReductionSmoothness | 50 |
ColorSpace | Uncalibrated |
ColorTemperature | 5550 |
CompatibleVersion | 234881024 |
Contrast2012 | 0 |
Copyright | TORMOD NORDSKOG |
CopyrightNotice | TORMOD NORDSKOG |
CreateDate | 2023:08:11 18:18:42 |
Creator | TORMOD |
CreatorTool | Digital Camera GFX50S II Ver1.11 |
CustomRendered | Normal |
DateCreated (1) | 2023:08:11 |
DateCreated | 2023:08:11 18:18:42 |
DateTimeOriginal | 2023:08:11 18:18:42 |
DefringeGreenAmount | 0 |
DefringeGreenHueHi | 60 |
DefringeGreenHueLo | 40 |
DefringePurpleAmount | 0 |
DefringePurpleHueHi | 70 |
DefringePurpleHueLo | 30 |
Dehaze | 0 |
DistortionCorrectionAlreadyApplied | True |
ExifImageHeight | 4580 |
ExifImageWidth | 7229 |
Exposure2012 | +0.25 |
ExposureCompensation | 0 |
ExposureMode | Auto |
ExposureProgram | Aperture-priority AE |
ExposureTime | 1/800 |
Flash | No Flash |
FNumber | 2.8 |
FocalLength | 45.0 mm |
FocalLength35efl | 45.0 mm (35 mm equivalent: 36.0 mm) |
FocalLengthIn35mmFormat | 36 mm |
Format | application/vnd.adobe.photoshop |
FOV | 53.1 deg |
FujiRatingAlreadyApplied | True |
GrainAmount | 0 |
GreenHue | 0 |
GreenSaturation | 0 |
HasCrop | False |
HasSettings | True |
Highlights2012 | 0 |
HueAdjustmentAqua | 0 |
HueAdjustmentBlue | 0 |
HueAdjustmentGreen | 0 |
HueAdjustmentMagenta | 0 |
HueAdjustmentOrange | 0 |
HueAdjustmentPurple | 0 |
HueAdjustmentRed | 0 |
HueAdjustmentYellow | 0 |
HyperfocalDistance | 19.26 m |
ICCProfileName | ProPhoto RGB |
ImageHeight | 4580 |
ImageSize | 7229x4580 |
ImageWidth | 7229 |
ISO | 640 |
Label | |
LateralChromaticAberrationCorrectionAlreadyApplied | True |
LayerCount | 0 |
Lens | GF45mmF2.8 R WR |
LensInfo | 45mm f/2.8 |
LensMake | FUJIFILM |
LensManualDistortionAmount | 0 |
LensModel | GF45mmF2.8 R WR |
LensProfileDistortionScale | 100 |
LensProfileEnable | 1 |
LensProfileIsEmbedded | True |
LensProfileName | Camera Settings |
LensProfileSetup | LensDefaults |
LensProfileVignettingScale | 100 |
LensSerialNumber | 18A00754 |
LightSource | Unknown |
LightValue | 9.9 |
LookAmount | 1 |
LookGroup | Profiles |
LookName | Adobe Color |
LookParametersCameraProfile | Adobe Standard |
LookParametersConvertToGrayscale | False |
LookParametersLookTable | E1095149FDB39D7A057BAB208837E2E1 |
LookParametersProcessVersion | 15.4 |
LookParametersToneCurvePV2012 | 0, 0, 22, 16, 40, 35, 127, 127, 224, 230, 240, 246, 255, 255 |
LookParametersToneCurvePV2012Blue | 0, 0, 255, 255 |
LookParametersToneCurvePV2012Green | 0, 0, 255, 255 |
LookParametersToneCurvePV2012Red | 0, 0, 255, 255 |
LookParametersVersion | 15.5 |
LookSupportsAmount | false |
LookSupportsMonochrome | false |
LookSupportsOutputReferred | false |
LuminanceAdjustmentAqua | 0 |
LuminanceAdjustmentBlue | 0 |
LuminanceAdjustmentGreen | 0 |
LuminanceAdjustmentMagenta | 0 |
LuminanceAdjustmentOrange | 0 |
LuminanceAdjustmentPurple | 0 |
LuminanceAdjustmentRed | 0 |
LuminanceAdjustmentYellow | 0 |
LuminanceSmoothing | 0 |
Make | FUJIFILM |
MaxApertureValue | 2.8 |
Megapixels | 33.1 |
MeteringMode | Multi-segment |
Model | GFX50S II |
ModifyDate (1) | 2023:08:13 16:17:00+02:00 |
ModifyDate | 2023:08:13 16:17:00 |
NumChannels | 3 |
Orientation | Horizontal (normal) |
OverrideLookVignette | False |
ParametricDarks | 0 |
ParametricHighlights | 0 |
ParametricHighlightSplit | 75 |
ParametricLights | 0 |
ParametricMidtoneSplit | 50 |
ParametricShadows | 0 |
ParametricShadowSplit | 25 |
PerspectiveAspect | 0 |
PerspectiveHorizontal | 0 |
PerspectiveRotate | 0.0 |
PerspectiveScale | 100 |
PerspectiveUpright | 0 |
PerspectiveVertical | 0 |
PerspectiveX | 0.00 |
PerspectiveY | 0.00 |
PostCropVignetteAmount | 0 |
PreservedFileName | DSCF3181.RAF |
ProcessVersion | 15.4 |
ProfileDescription | ProPhoto RGB |
Rating | 0 |
RedHue | 0 |
RedSaturation | 0 |
Rights | TORMOD NORDSKOG |
Saturation | 0 |
SaturationAdjustmentAqua | 0 |
SaturationAdjustmentBlue | 0 |
SaturationAdjustmentGreen | 0 |
SaturationAdjustmentMagenta | 0 |
SaturationAdjustmentOrange | 0 |
SaturationAdjustmentPurple | 0 |
SaturationAdjustmentRed | 0 |
SaturationAdjustmentYellow | 0 |
ScaleFactor35efl | 0.8 |
SceneCaptureType | Standard |
SceneType | Directly photographed |
SensingMethod | One-chip color area |
SensitivityType | Standard Output Sensitivity |
SerialNumber | 13003863 |
Shadows2012 | 0 |
ShadowTint | 0 |
SharpenDetail | 25 |
SharpenEdgeMasking | 0 |
SharpenRadius | +1.0 |
Sharpness (1) | 40 |
Sharpness | Normal |
ShutterSpeed | 1/800 |
ShutterSpeedValue | 1/800 |
Software | Adobe Photoshop 24.7 (Macintosh) |
SplitToningBalance | 0 |
SplitToningHighlightHue | 0 |
SplitToningHighlightSaturation | 0 |
SplitToningShadowHue | 0 |
SplitToningShadowSaturation | 0 |
StandardOutputSensitivity | 640 |
SubjectDistanceRange | Unknown |
Texture | 0 |
Tint | +24 |
ToneCurveName2012 | Linear |
ToneCurvePV2012 | 0, 0, 255, 255 |
ToneCurvePV2012Blue | 0, 0, 255, 255 |
ToneCurvePV2012Green | 0, 0, 255, 255 |
ToneCurvePV2012Red | 0, 0, 255, 255 |
URL_List | |
Version | 15.5 |
Vibrance | 0 |
VignetteAmount | 0 |
VignetteCorrectionAlreadyApplied | True |
WhiteBalance (1) | Auto |
WhiteBalance | As Shot |
Whites2012 | 0 |