Felt | Verdi |
AlreadyApplied | True |
Aperture | 2.8 |
ApertureValue | 2.8 |
Artist | Tom Arild Sørli |
BitsPerSample | 8 |
BlueHue | 0 |
BlueSaturation | 0 |
Brightness | -11 |
By-line | Tom Arild Sørli |
CameraProfile | Adobe Standard |
ChromaticAberrationB | 0 |
ChromaticAberrationR | 0 |
CircleOfConfusion | 0.031 mm |
Clarity | 0 |
ColorComponents | 1 |
ColorMode | RGB |
ColorNoiseReduction | 25 |
ColorSpace | sRGB |
ColorTemperature | 3905 |
Contrast | +29 |
ConvertToGrayscale | True |
Copyright | Tom Arild Sørli |
CopyrightFlag | True |
CopyrightNotice | Tom Arild Sørli |
CreateDate (1) | 2010:02:06 21:06:37.42+01:00 |
CreateDate | 2010:02:06 21:06:37 |
Creator | Tom Arild Sørli |
CreatorCountry | Norway |
CreatorTool | Adobe Photoshop Lightroom |
CreatorWorkTelephone | 90828636 |
CreatorWorkURL | http://www.fotoaktiv.no |
CustomRendered | Normal |
DateTimeDigitized | 2010:02:06 21:06:37.42+01:00 |
DateTimeOriginal (1) | 2010:02:06 21:06:37.42+01:00 |
DateTimeOriginal | 2010:02:06 21:06:37 |
Defringe | 0 |
ExifImageHeight | 3180 |
ExifImageWidth | 4650 |
Exposure | -0.38 |
ExposureCompensation | 0 |
ExposureMode | Manual |
ExposureProgram | Manual |
ExposureTime | 1/60 |
FillLight | 39 |
Firmware | 1.1.0 |
Flash | Off, Did not fire |
FlashCompensation | 0 |
FlashFired | False |
FlashFunction | False |
FlashMode | Off |
FlashRedEyeMode | False |
FlashReturn | No return detection |
FNumber | 2.8 |
FocalLength | 50.0 mm |
FocalLength35efl | 50.0 mm (35 mm equivalent: 48.8 mm) |
Format | image/jpeg |
FOV | 40.5 deg |
GrayMixerAqua | -26 |
GrayMixerBlue | -2 |
GrayMixerGreen | -40 |
GrayMixerMagenta | +31 |
GrayMixerOrange | -19 |
GrayMixerPurple | +17 |
GrayMixerRed | -62 |
GrayMixerYellow | +19 |
GreenHue | 0 |
GreenSaturation | 0 |
HasCrop | False |
HasSettings | True |
HighlightRecovery | 36 |
HyperfocalDistance | 29.00 m |
ICCProfileName | sRGB IEC61966-2.1 |
ImageHeight (1) | 3744 |
ImageHeight | 3180 |
ImageNumber | 0 |
ImageSize | 4650x3180 |
ImageWidth (1) | 5616 |
ImageWidth | 4650 |
ISO | 1600 |
Lens | EF50mm f/1.4 USM |
LensID (1) | 198 |
LensID | Canon EF 50mm f/1.4 USM |
LensInfo | 50mm f/? |
LightValue | 4.9 |
LuminanceSmoothing | 0 |
Make | Canon |
Marked | True |
MaxApertureValue | 1.4 |
Megapixels | 14.8 |
MeteringMode | Multi-segment |
Model | Canon EOS 5D Mark II |
ModifyDate (1) | 2010:03:14 17:19:47+01:00 |
ModifyDate | 2010:03:14 17:19:47 |
Orientation | Horizontal (normal) |
OwnerName | Tom Arild Soerli |
ParametricDarks | 0 |
ParametricHighlights | 0 |
ParametricHighlightSplit | 75 |
ParametricLights | 0 |
ParametricMidtoneSplit | 50 |
ParametricShadows | 0 |
ParametricShadowSplit | 25 |
PostCropVignetteAmount | 0 |
ProfileDescription | sRGB IEC61966-2.1 |
RedHue | 0 |
RedSaturation | 0 |
Rights | Tom Arild Sørli |
ScaleFactor35efl | 1.0 |
SceneCaptureType | Standard |
SerialNumber | 130100410 |
Shadows | 17 |
ShadowTint | 0 |
SharpenDetail | 25 |
SharpenEdgeMasking | 0 |
SharpenRadius | +1.0 |
Sharpness | 25 |
ShutterSpeed | 1/60 |
ShutterSpeedValue | 1/60 |
Software | Adobe Photoshop CS4 Windows |
SplitToningBalance | 0 |
SplitToningHighlightHue | 0 |
SplitToningHighlightSaturation | 0 |
SplitToningShadowHue | 0 |
SplitToningShadowSaturation | 0 |
Tint | -25 |
ToneCurve | 0, 0, 32, 22, 64, 56, 128, 128, 192, 196, 255, 255 |
ToneCurveName | Medium Contrast |
URL | http://www.fotoaktiv.no/copyright |
URL_List | |
Version | 5.6.1 |
VignetteAmount | 0 |
WebStatement | http://www.fotoaktiv.no/copyright |
WhiteBalance (2) | Custom |
WhiteBalance | Auto |