Felt | Verdi |
AlreadyApplied | True |
Aperture | 2.8 |
ApertureValue | 2.8 |
ApproximateFocusDistance | 4294967295 |
Artist | Zoltan Tot |
AutoLateralCA | 0 |
BitsPerSample | 8 |
Blacks2012 | -16 |
BlueHue | 0 |
BlueSaturation | 0 |
By-line | Zoltan Tot |
CameraProfile | Adobe Standard |
CFAPattern | [Red,Green][Green,Blue] |
CircleOfConfusion | 0.030 mm |
Clarity2012 | +33 |
ColorComponents | 3 |
ColorMode | RGB |
ColorNoiseReduction | 25 |
ColorNoiseReductionDetail | 50 |
ColorSpace | Uncalibrated |
ColorTemperature | 4900 |
Contrast | Normal |
Contrast2012 | +12 |
ConvertToGrayscale | False |
Copyright | Zoltan ToT |
CopyrightNotice | Zoltan ToT |
CreateDate | 2013:01:26 22:04:18 |
Creator | Zoltan Tot |
CreatorTool | Ver.1.00 |
CustomRendered | Custom |
DateCreated (1) | 2013:01:26 |
DateCreated | 2013:01:26 22:04:18.005 |
DateTimeOriginal | 2013:01:26 22:04:18 |
DefringeGreenAmount | 0 |
DefringeGreenHueHi | 60 |
DefringeGreenHueLo | 40 |
DefringePurpleAmount | 0 |
DefringePurpleHueHi | 70 |
DefringePurpleHueLo | 30 |
DigitalZoomRatio | 1 |
DOF | inf (2.33 m - inf) |
ExifImageHeight | 1205 |
ExifImageWidth | 1805 |
Exposure2012 | 0.00 |
ExposureCompensation | 0 |
ExposureMode | Manual |
ExposureProgram | Manual |
ExposureTime | 2 |
Flash | Off, Did not fire |
FNumber | 2.8 |
FocalLength | 14.0 mm |
FocalLength35efl | 14.0 mm (35 mm equivalent: 14.0 mm) |
FocalLengthIn35mmFormat | 14 mm |
Format | image/jpeg |
FOV | 104.3 deg |
GainControl | High gain up |
GradientBasedCorrActive | true |
GradientBasedCorrAmount | 1.000000 |
GradientBasedCorrBrightness | 0.000000 |
GradientBasedCorrClarity | 0.000000 |
GradientBasedCorrClarity2012 | 0.350000 |
GradientBasedCorrContrast | 0.000000 |
GradientBasedCorrContrast2012 | 0.180000 |
GradientBasedCorrDefringe | 0.000000 |
GradientBasedCorrExposure | 0.000000 |
GradientBasedCorrExposure2012 (1) | -0.062500 |
GradientBasedCorrExposure2012 | -0.737500 |
GradientBasedCorrHighlights2012 | 0.000000 |
GradientBasedCorrHue | 330.000000 |
GradientBasedCorrLuminanceNoise | 0.000000 |
GradientBasedCorrMaskFullX (1) | 0.486537 |
GradientBasedCorrMaskFullX | 0.739090 |
GradientBasedCorrMaskFullY (1) | 0.317107 |
GradientBasedCorrMaskFullY | 1.019471 |
GradientBasedCorrMaskValue | 1.000000 |
GradientBasedCorrMaskWhat | Mask/Gradient |
GradientBasedCorrMaskZeroX (1) | 0.486537 |
GradientBasedCorrMaskZeroX | 0.734448 |
GradientBasedCorrMaskZeroY (1) | 0.510431 |
GradientBasedCorrMaskZeroY | 0.842837 |
GradientBasedCorrMoire | 0.000000 |
GradientBasedCorrSaturation (3) | 0.130000 |
GradientBasedCorrSaturation | 0.000000 |
GradientBasedCorrShadows2012 | -0.090000 |
GradientBasedCorrSharpness | 0.000000 |
GradientBasedCorrTemperature | -0.070000 |
GradientBasedCorrTint | 0.500000 |
GradientBasedCorrWhat | Correction |
GrainAmount | 0 |
GreenHue | 0 |
GreenSaturation | 0 |
HasCrop | False |
HasSettings | True |
Highlights2012 | +40 |
HueAdjustmentAqua | 0 |
HueAdjustmentBlue | 0 |
HueAdjustmentGreen | 0 |
HueAdjustmentMagenta | 0 |
HueAdjustmentOrange | 0 |
HueAdjustmentPurple | 0 |
HueAdjustmentRed | 0 |
HueAdjustmentYellow | 0 |
HyperfocalDistance | 2.33 m |
ICCProfileName | Adobe RGB (1998) |
ImageHeight | 1205 |
ImageNumber | 599 |
ImageSize | 1805x1205 |
ImageWidth | 1805 |
ISO | 1000 |
Lens | 14.0 mm f/2.8 |
LensID (1) | 74 |
LensID | Samyang AE 14mm f/2.8 ED AS IF UMC |
LensInfo | 14mm f/2.8-1.4 |
LensManualDistortionAmount | 0 |
LensModel | 14.0 mm f/2.8 |
LensProfileEnable | 0 |
LensProfileSetup | LensDefaults |
LightSource | Unknown |
LightValue | -1.4 |
LuminanceAdjustmentAqua | -37 |
LuminanceAdjustmentBlue | -86 |
LuminanceAdjustmentGreen | 0 |
LuminanceAdjustmentMagenta | 0 |
LuminanceAdjustmentOrange | 0 |
LuminanceAdjustmentPurple | 0 |
LuminanceAdjustmentRed | 0 |
LuminanceAdjustmentYellow | 0 |
LuminanceNoiseReductionContrast | 0 |
LuminanceNoiseReductionDetail | 16 |
LuminanceSmoothing | 28 |
Make | NIKON CORPORATION |
MaxApertureValue | 2.8 |
Megapixels | 2.2 |
MeteringMode | Center-weighted average |
Model | NIKON D600 |
ModifyDate (1) | 2013:01:26 22:51:06+01:00 |
ModifyDate | 2013:01:26 22:51:06 |
Orientation | Horizontal (normal) |
ParametricDarks | 0 |
ParametricHighlights | 0 |
ParametricHighlightSplit | 75 |
ParametricLights | 0 |
ParametricMidtoneSplit | 50 |
ParametricShadows | 0 |
ParametricShadowSplit | 25 |
PerspectiveHorizontal | 0 |
PerspectiveRotate | 0.0 |
PerspectiveScale | 100 |
PerspectiveVertical | 0 |
PostCropVignetteAmount | 0 |
ProcessVersion | 6.7 |
ProfileDescription | Adobe RGB (1998) |
Rating | 0 |
RawFileName | _BDS0527.NEF |
RedHue | 0 |
RedSaturation | 0 |
Rights | Zoltan ToT |
Saturation (1) | 0 |
Saturation | Normal |
SaturationAdjustmentAqua | 0 |
SaturationAdjustmentBlue | 0 |
SaturationAdjustmentGreen | 0 |
SaturationAdjustmentMagenta | 0 |
SaturationAdjustmentOrange | 0 |
SaturationAdjustmentPurple | 0 |
SaturationAdjustmentRed | 0 |
SaturationAdjustmentYellow | 0 |
ScaleFactor35efl | 1.0 |
SceneCaptureType | Standard |
SceneType | Directly photographed |
SensingMethod | One-chip color area |
SensitivityType | Recommended Exposure Index |
SerialNumber | 6015639 |
Shadows2012 | +25 |
ShadowTint | 0 |
SharpenDetail | 25 |
SharpenEdgeMasking | 0 |
SharpenRadius | +1.0 |
Sharpness (1) | 9 |
Sharpness | Normal |
ShutterSpeed | 2 |
ShutterSpeedValue | 2 |
Software | Adobe Photoshop CS6 (Macintosh) |
SplitToningBalance | 0 |
SplitToningHighlightHue | 0 |
SplitToningHighlightSaturation | 0 |
SplitToningShadowHue | 0 |
SplitToningShadowSaturation | 0 |
SubjectDistanceRange | Unknown |
Tint | +13 |
ToneCurveName2012 | Linear |
ToneCurvePV2012 | 0, 0, 255, 255 |
ToneCurvePV2012Blue | 0, 0, 255, 255 |
ToneCurvePV2012Green | 0, 0, 255, 255 |
ToneCurvePV2012Red | 0, 0, 255, 255 |
URL_List | |
Version | 7.3 |
Vibrance | +28 |
VignetteAmount | 0 |
WhiteBalance (1) | Custom |
WhiteBalance | Manual |
Whites2012 | +14 |